BEGIN:VCALENDAR
VERSION:2.0
PRODID:-//ChamberMaster//Event Calendar 2.0//EN
METHOD:PUBLISH
X-PUBLISHED-TTL:P3D
REFRESH-INTERVAL:P3D
CALSCALE:GREGORIAN
BEGIN:VEVENT
DTSTART:20260218T000000Z
DTEND:20260218T020000Z
X-MICROSOFT-CDO-ALLDAYEVENT:FALSE
SUMMARY:Reaching Your Financial Goals Workshop
DESCRIPTION:Join Patchwork Financial Counseling at a fun workshop designed to help you set your financial goals for 2026 and make a plan to reach them. We will work with you on your personal financial goals so be sure to bring your ideas\, income and expense information and any other information that may be relevant to the process. Sign up at patchworkfinancialcounsel.com. Cost is $30.
X-ALT-DESC;FMTTYPE=text/html:Join Patchwork Financial Counseling at a fun workshop designed to help you set your financial goals for 2026 and make a plan to reach them. We will work with you on your personal financial goals so be sure to bring your ideas\, income and expense information and any other information that may be relevant to the process. Sign up at patchworkfinancialcounsel.com. Cost is $30.
LOCATION:Lowell Chamber of Commerce 113 Riverwalk Plaza Lowell MI 49331
UID:e.1717.2319
SEQUENCE:3
DTSTAMP:20260420T002207Z
URL:https://business.discoverlowell.org/events/details/reaching-your-financial-goals-workshop-2319
END:VEVENT

END:VCALENDAR
